BEGIN:VCALENDAR
VERSION:2.0
PRODID:icalendar-ruby
CALSCALE:GREGORIAN
METHOD:PUBLISH
BEGIN:VEVENT
DTSTAMP:20260425T021812Z
UID:11-1112402@oxfordvalleychapel.org
DTSTART:20261021T230000Z
DTEND:20261022T000000Z
CLASS:PUBLIC
CREATED:20260424T193049
DESCRIPTION:Kids Club runs throughout the school year from 7 to 8 PM. Your 
 children are presented with a Bible lesson\, sing songs\, and enjoy fun ga
 me time activities. Come and discover God’s plan of redemption as presen
 ted in the Bible!\nFor more information or to register for the program\, v
 isit Kids Club.
LAST-MODIFIED:20260424T193049
LOCATION:Downstairs Classrooms
SUMMARY:Kids Club
URL;VALUE=URI:https://oxfordvalleychapel.org/events/kids-club/2026-10-21
ATTACH;FILENAME=Kids-Playing-1280x960.jpg;FMTTYPE=image/jpeg:https://dq5pwp
 g1q8ru0.cloudfront.net/2024/08/15/18/57/18/df8409f1-9223-4f20-ac68-e41155c
 00b80/Kids-Playing-1280x960.jpg
END:VEVENT
END:VCALENDAR
